BEGIN:VCALENDAR
VERSION:2.0
PRODID:https://www.kufer.de/kuferweb / DE
METHOD:PUBLISH
CALSCALE:GREGORIAN
X-WR-TIMEZONE:Europe/Berlin
BEGIN:VTIMEZONE
TZID:Europe/Berlin
X-LIC-LOCATION:Europe/Berlin
BEGIN:DAYLIGHT
TZOFFSETFROM:+0100
TZOFFSETTO:+0200
TZNAME:CEST
DTSTART:19700329T020000
RRULE:FREQ=YEARLY;INTERVAL=1;BYDAY=-1SU;BYMONTH=3
END:DAYLIGHT
BEGIN:STANDARD
TZOFFSETFROM:+0200
TZOFFSETTO:+0100
TZNAME:CET
DTSTART:19701025T030000
RRULE:FREQ=YEARLY;INTERVAL=1;BYDAY=-1SU;BYMONTH=10
END:STANDARD
END:VTIMEZONE
BEGIN:VEVENT
DTSTAMP:20260420T200702
DTSTART;TZID=Europe/Berlin:20260506T141500
DTEND;TZID=Europe/Berlin:20260506T154500
UID:D5509-20260506T141500@VHSFILDERSTADT
SUMMARY:Schmetterlinge und andere Insekten Heimische Insekten entdecken und erkennen 2./3. Klasse (D5509) 
LOCATION:Kirchheim-Jesingen, GS Kirchheim Jesingen, Neue Weilheimer Strasse 9, 73230 Kirchheim-Jesingen
END:VEVENT
BEGIN:VEVENT
DTSTAMP:20260420T200702
DTSTART;TZID=Europe/Berlin:20260513T141500
DTEND;TZID=Europe/Berlin:20260513T154500
UID:D5509-20260513T141500@VHSFILDERSTADT
SUMMARY:Schmetterlinge und andere Insekten Heimische Insekten entdecken und erkennen 2./3. Klasse (D5509) 
LOCATION:Kirchheim-Jesingen, GS Kirchheim Jesingen, Neue Weilheimer Strasse 9, 73230 Kirchheim-Jesingen
END:VEVENT
BEGIN:VEVENT
DTSTAMP:20260420T200702
DTSTART;TZID=Europe/Berlin:20260520T141500
DTEND;TZID=Europe/Berlin:20260520T154500
UID:D5509-20260520T141500@VHSFILDERSTADT
SUMMARY:Schmetterlinge und andere Insekten Heimische Insekten entdecken und erkennen 2./3. Klasse (D5509) 
LOCATION:Kirchheim-Jesingen, GS Kirchheim Jesingen, Neue Weilheimer Strasse 9, 73230 Kirchheim-Jesingen
END:VEVENT
BEGIN:VEVENT
DTSTAMP:20260420T200702
DTSTART;TZID=Europe/Berlin:20260610T141500
DTEND;TZID=Europe/Berlin:20260610T154500
UID:D5509-20260610T141500@VHSFILDERSTADT
SUMMARY:Schmetterlinge und andere Insekten Heimische Insekten entdecken und erkennen 2./3. Klasse (D5509) 
LOCATION:Kirchheim-Jesingen, GS Kirchheim Jesingen, Neue Weilheimer Strasse 9, 73230 Kirchheim-Jesingen
END:VEVENT
BEGIN:VEVENT
DTSTAMP:20260420T200702
DTSTART;TZID=Europe/Berlin:20260617T141500
DTEND;TZID=Europe/Berlin:20260617T154500
UID:D5509-20260617T141500@VHSFILDERSTADT
SUMMARY:Schmetterlinge und andere Insekten Heimische Insekten entdecken und erkennen 2./3. Klasse (D5509) 
LOCATION:Kirchheim-Jesingen, GS Kirchheim Jesingen, Neue Weilheimer Strasse 9, 73230 Kirchheim-Jesingen
END:VEVENT
BEGIN:VEVENT
DTSTAMP:20260420T200702
DTSTART;TZID=Europe/Berlin:20260624T141500
DTEND;TZID=Europe/Berlin:20260624T154500
UID:D5509-20260624T141500@VHSFILDERSTADT
SUMMARY:Schmetterlinge und andere Insekten Heimische Insekten entdecken und erkennen 2./3. Klasse (D5509) 
LOCATION:Kirchheim-Jesingen, GS Kirchheim Jesingen, Neue Weilheimer Strasse 9, 73230 Kirchheim-Jesingen
END:VEVENT
BEGIN:VEVENT
DTSTAMP:20260420T200702
DTSTART;TZID=Europe/Berlin:20260701T141500
DTEND;TZID=Europe/Berlin:20260701T154500
UID:D5509-20260701T141500@VHSFILDERSTADT
SUMMARY:Schmetterlinge und andere Insekten Heimische Insekten entdecken und erkennen 2./3. Klasse (D5509) 
LOCATION:Kirchheim-Jesingen, GS Kirchheim Jesingen, Neue Weilheimer Strasse 9, 73230 Kirchheim-Jesingen
END:VEVENT
BEGIN:VEVENT
DTSTAMP:20260420T200702
DTSTART;TZID=Europe/Berlin:20260708T141500
DTEND;TZID=Europe/Berlin:20260708T154500
UID:D5509-20260708T141500@VHSFILDERSTADT
SUMMARY:Schmetterlinge und andere Insekten Heimische Insekten entdecken und erkennen 2./3. Klasse (D5509) 
LOCATION:Kirchheim-Jesingen, GS Kirchheim Jesingen, Neue Weilheimer Strasse 9, 73230 Kirchheim-Jesingen
END:VEVENT
BEGIN:VEVENT
DTSTAMP:20260420T200702
DTSTART;TZID=Europe/Berlin:20260715T141500
DTEND;TZID=Europe/Berlin:20260715T154500
UID:D5509-20260715T141500@VHSFILDERSTADT
SUMMARY:Schmetterlinge und andere Insekten Heimische Insekten entdecken und erkennen 2./3. Klasse (D5509) 
LOCATION:Kirchheim-Jesingen, GS Kirchheim Jesingen, Neue Weilheimer Strasse 9, 73230 Kirchheim-Jesingen
END:VEVENT
BEGIN:VEVENT
DTSTAMP:20260420T200702
DTSTART;TZID=Europe/Berlin:20260722T141500
DTEND;TZID=Europe/Berlin:20260722T154500
UID:D5509-20260722T141500@VHSFILDERSTADT
SUMMARY:Schmetterlinge und andere Insekten Heimische Insekten entdecken und erkennen 2./3. Klasse (D5509) 
LOCATION:Kirchheim-Jesingen, GS Kirchheim Jesingen, Neue Weilheimer Strasse 9, 73230 Kirchheim-Jesingen
END:VEVENT
END:VCALENDAR