BEGIN:VCALENDAR
VERSION:2.0
PRODID:https://www.kufer.de/kuferweb / DE
METHOD:PUBLISH
CALSCALE:GREGORIAN
X-WR-TIMEZONE:Europe/Berlin
BEGIN:VTIMEZONE
TZID:Europe/Berlin
X-LIC-LOCATION:Europe/Berlin
BEGIN:DAYLIGHT
TZOFFSETFROM:+0100
TZOFFSETTO:+0200
TZNAME:CEST
DTSTART:19700329T020000
RRULE:FREQ=YEARLY;INTERVAL=1;BYDAY=-1SU;BYMONTH=3
END:DAYLIGHT
BEGIN:STANDARD
TZOFFSETFROM:+0200
TZOFFSETTO:+0100
TZNAME:CET
DTSTART:19701025T030000
RRULE:FREQ=YEARLY;INTERVAL=1;BYDAY=-1SU;BYMONTH=10
END:STANDARD
END:VTIMEZONE
BEGIN:VEVENT
DTSTAMP:20260420T185701
DTSTART;TZID=Europe/Berlin:20260306T084500
DTEND;TZID=Europe/Berlin:20260306T094500
UID:D3387-20260306T084500@VHSFILDERSTADT
SUMMARY:Funktionelle Fitnessgymnastik (D3387) 
LOCATION:Plat., VHS, Schillerhalle, Schulstr. 13/1, 70794 Filderstadt-Plattenhardt
END:VEVENT
BEGIN:VEVENT
DTSTAMP:20260420T185701
DTSTART;TZID=Europe/Berlin:20260313T084500
DTEND;TZID=Europe/Berlin:20260313T094500
UID:D3387-20260313T084500@VHSFILDERSTADT
SUMMARY:Funktionelle Fitnessgymnastik (D3387) 
LOCATION:Plat., VHS, Schillerhalle, Schulstr. 13/1, 70794 Filderstadt-Plattenhardt
END:VEVENT
BEGIN:VEVENT
DTSTAMP:20260420T185701
DTSTART;TZID=Europe/Berlin:20260320T084500
DTEND;TZID=Europe/Berlin:20260320T094500
UID:D3387-20260320T084500@VHSFILDERSTADT
SUMMARY:Funktionelle Fitnessgymnastik (D3387) 
LOCATION:Plat., VHS, Schillerhalle, Schulstr. 13/1, 70794 Filderstadt-Plattenhardt
END:VEVENT
BEGIN:VEVENT
DTSTAMP:20260420T185701
DTSTART;TZID=Europe/Berlin:20260417T084500
DTEND;TZID=Europe/Berlin:20260417T094500
UID:D3387-20260417T084500@VHSFILDERSTADT
SUMMARY:Funktionelle Fitnessgymnastik (D3387) 
LOCATION:Plat., VHS, Schillerhalle, Schulstr. 13/1, 70794 Filderstadt-Plattenhardt
END:VEVENT
BEGIN:VEVENT
DTSTAMP:20260420T185701
DTSTART;TZID=Europe/Berlin:20260424T084500
DTEND;TZID=Europe/Berlin:20260424T094500
UID:D3387-20260424T084500@VHSFILDERSTADT
SUMMARY:Funktionelle Fitnessgymnastik (D3387) 
LOCATION:Plat., VHS, Schillerhalle, Schulstr. 13/1, 70794 Filderstadt-Plattenhardt
END:VEVENT
BEGIN:VEVENT
DTSTAMP:20260420T185701
DTSTART;TZID=Europe/Berlin:20260508T084500
DTEND;TZID=Europe/Berlin:20260508T094500
UID:D3387-20260508T084500@VHSFILDERSTADT
SUMMARY:Funktionelle Fitnessgymnastik (D3387) 
LOCATION:Plat., VHS, Schillerhalle, Schulstr. 13/1, 70794 Filderstadt-Plattenhardt
END:VEVENT
BEGIN:VEVENT
DTSTAMP:20260420T185701
DTSTART;TZID=Europe/Berlin:20260522T084500
DTEND;TZID=Europe/Berlin:20260522T094500
UID:D3387-20260522T084500@VHSFILDERSTADT
SUMMARY:Funktionelle Fitnessgymnastik (D3387) 
LOCATION:Plat., VHS, Schillerhalle, Schulstr. 13/1, 70794 Filderstadt-Plattenhardt
END:VEVENT
BEGIN:VEVENT
DTSTAMP:20260420T185701
DTSTART;TZID=Europe/Berlin:20260612T084500
DTEND;TZID=Europe/Berlin:20260612T094500
UID:D3387-20260612T084500@VHSFILDERSTADT
SUMMARY:Funktionelle Fitnessgymnastik (D3387) 
LOCATION:Plat., VHS, Schillerhalle, Schulstr. 13/1, 70794 Filderstadt-Plattenhardt
END:VEVENT
BEGIN:VEVENT
DTSTAMP:20260420T185701
DTSTART;TZID=Europe/Berlin:20260626T084500
DTEND;TZID=Europe/Berlin:20260626T094500
UID:D3387-20260626T084500@VHSFILDERSTADT
SUMMARY:Funktionelle Fitnessgymnastik (D3387) 
LOCATION:Plat., VHS, Schillerhalle, Schulstr. 13/1, 70794 Filderstadt-Plattenhardt
END:VEVENT
BEGIN:VEVENT
DTSTAMP:20260420T185701
DTSTART;TZID=Europe/Berlin:20260703T084500
DTEND;TZID=Europe/Berlin:20260703T094500
UID:D3387-20260703T084500@VHSFILDERSTADT
SUMMARY:Funktionelle Fitnessgymnastik (D3387) 
LOCATION:Plat., VHS, Schillerhalle, Schulstr. 13/1, 70794 Filderstadt-Plattenhardt
END:VEVENT
BEGIN:VEVENT
DTSTAMP:20260420T185701
DTSTART;TZID=Europe/Berlin:20260710T084500
DTEND;TZID=Europe/Berlin:20260710T094500
UID:D3387-20260710T084500@VHSFILDERSTADT
DESCRIPTION:Nachhol 19.6. 19.02.26 (*SK): 
SUMMARY:Funktionelle Fitnessgymnastik (D3387) 
LOCATION:Plat., VHS, Schillerhalle, Schulstr. 13/1, 70794 Filderstadt-Plattenhardt
END:VEVENT
BEGIN:VEVENT
DTSTAMP:20260420T185701
DTSTART;TZID=Europe/Berlin:20260717T084500
DTEND;TZID=Europe/Berlin:20260717T094500
UID:D3387-20260717T084500@VHSFILDERSTADT
DESCRIPTION:Nachhol f. 27.2. 23.02.26 (*SK): 
SUMMARY:Funktionelle Fitnessgymnastik (D3387) 
LOCATION:Plat., VHS, Schillerhalle, Schulstr. 13/1, 70794 Filderstadt-Plattenhardt
END:VEVENT
END:VCALENDAR