BEGIN:VCALENDAR
VERSION:2.0
PRODID:https://www.kufer.de/kuferweb / DE
METHOD:PUBLISH
CALSCALE:GREGORIAN
X-WR-TIMEZONE:Europe/Berlin
BEGIN:VTIMEZONE
TZID:Europe/Berlin
X-LIC-LOCATION:Europe/Berlin
BEGIN:DAYLIGHT
TZOFFSETFROM:+0100
TZOFFSETTO:+0200
TZNAME:CEST
DTSTART:19700329T020000
RRULE:FREQ=YEARLY;INTERVAL=1;BYDAY=-1SU;BYMONTH=3
END:DAYLIGHT
BEGIN:STANDARD
TZOFFSETFROM:+0200
TZOFFSETTO:+0100
TZNAME:CET
DTSTART:19701025T030000
RRULE:FREQ=YEARLY;INTERVAL=1;BYDAY=-1SU;BYMONTH=10
END:STANDARD
END:VTIMEZONE
BEGIN:VEVENT
DTSTAMP:20260422T060410
DTSTART;TZID=Europe/Berlin:20260225T073000
DTEND;TZID=Europe/Berlin:20260225T083000
UID:D3382-20260225T073000@VHSFILDERSTADT
SUMMARY:Body & Mind - der gesunde Fitnessmix DIE morgendliche Zeitnische zwischen Familie und Beruf (D3382) 
LOCATION:Plat., VHS, Schillerhalle, Schulstr. 13/1, 70794 Filderstadt-Plattenhardt
END:VEVENT
BEGIN:VEVENT
DTSTAMP:20260422T060410
DTSTART;TZID=Europe/Berlin:20260304T073000
DTEND;TZID=Europe/Berlin:20260304T083000
UID:D3382-20260304T073000@VHSFILDERSTADT
SUMMARY:Body & Mind - der gesunde Fitnessmix DIE morgendliche Zeitnische zwischen Familie und Beruf (D3382) 
LOCATION:Plat., VHS, Schillerhalle, Schulstr. 13/1, 70794 Filderstadt-Plattenhardt
END:VEVENT
BEGIN:VEVENT
DTSTAMP:20260422T060410
DTSTART;TZID=Europe/Berlin:20260311T073000
DTEND;TZID=Europe/Berlin:20260311T083000
UID:D3382-20260311T073000@VHSFILDERSTADT
SUMMARY:Body & Mind - der gesunde Fitnessmix DIE morgendliche Zeitnische zwischen Familie und Beruf (D3382) 
LOCATION:Plat., VHS, Schillerhalle, Schulstr. 13/1, 70794 Filderstadt-Plattenhardt
END:VEVENT
BEGIN:VEVENT
DTSTAMP:20260422T060410
DTSTART;TZID=Europe/Berlin:20260318T073000
DTEND;TZID=Europe/Berlin:20260318T083000
UID:D3382-20260318T073000@VHSFILDERSTADT
SUMMARY:Body & Mind - der gesunde Fitnessmix DIE morgendliche Zeitnische zwischen Familie und Beruf (D3382) 
LOCATION:Plat., VHS, Schillerhalle, Schulstr. 13/1, 70794 Filderstadt-Plattenhardt
END:VEVENT
BEGIN:VEVENT
DTSTAMP:20260422T060410
DTSTART;TZID=Europe/Berlin:20260325T073000
DTEND;TZID=Europe/Berlin:20260325T083000
UID:D3382-20260325T073000@VHSFILDERSTADT
SUMMARY:Body & Mind - der gesunde Fitnessmix DIE morgendliche Zeitnische zwischen Familie und Beruf (D3382) 
LOCATION:Plat., VHS, Schillerhalle, Schulstr. 13/1, 70794 Filderstadt-Plattenhardt
END:VEVENT
BEGIN:VEVENT
DTSTAMP:20260422T060410
DTSTART;TZID=Europe/Berlin:20260415T073000
DTEND;TZID=Europe/Berlin:20260415T083000
UID:D3382-20260415T073000@VHSFILDERSTADT
SUMMARY:Body & Mind - der gesunde Fitnessmix DIE morgendliche Zeitnische zwischen Familie und Beruf (D3382) 
LOCATION:Plat., VHS, Schillerhalle, Schulstr. 13/1, 70794 Filderstadt-Plattenhardt
END:VEVENT
BEGIN:VEVENT
DTSTAMP:20260422T060410
DTSTART;TZID=Europe/Berlin:20260422T073000
DTEND;TZID=Europe/Berlin:20260422T083000
UID:D3382-20260422T073000@VHSFILDERSTADT
SUMMARY:Body & Mind - der gesunde Fitnessmix DIE morgendliche Zeitnische zwischen Familie und Beruf (D3382) 
LOCATION:Plat., VHS, Schillerhalle, Schulstr. 13/1, 70794 Filderstadt-Plattenhardt
END:VEVENT
BEGIN:VEVENT
DTSTAMP:20260422T060410
DTSTART;TZID=Europe/Berlin:20260429T073000
DTEND;TZID=Europe/Berlin:20260429T083000
UID:D3382-20260429T073000@VHSFILDERSTADT
SUMMARY:Body & Mind - der gesunde Fitnessmix DIE morgendliche Zeitnische zwischen Familie und Beruf (D3382) 
LOCATION:Plat., VHS, Schillerhalle, Schulstr. 13/1, 70794 Filderstadt-Plattenhardt
END:VEVENT
BEGIN:VEVENT
DTSTAMP:20260422T060410
DTSTART;TZID=Europe/Berlin:20260506T073000
DTEND;TZID=Europe/Berlin:20260506T083000
UID:D3382-20260506T073000@VHSFILDERSTADT
SUMMARY:Body & Mind - der gesunde Fitnessmix DIE morgendliche Zeitnische zwischen Familie und Beruf (D3382) 
LOCATION:Plat., VHS, Schillerhalle, Schulstr. 13/1, 70794 Filderstadt-Plattenhardt
END:VEVENT
BEGIN:VEVENT
DTSTAMP:20260422T060410
DTSTART;TZID=Europe/Berlin:20260513T073000
DTEND;TZID=Europe/Berlin:20260513T083000
UID:D3382-20260513T073000@VHSFILDERSTADT
SUMMARY:Body & Mind - der gesunde Fitnessmix DIE morgendliche Zeitnische zwischen Familie und Beruf (D3382) 
LOCATION:Plat., VHS, Schillerhalle, Schulstr. 13/1, 70794 Filderstadt-Plattenhardt
END:VEVENT
BEGIN:VEVENT
DTSTAMP:20260422T060410
DTSTART;TZID=Europe/Berlin:20260520T073000
DTEND;TZID=Europe/Berlin:20260520T083000
UID:D3382-20260520T073000@VHSFILDERSTADT
SUMMARY:Body & Mind - der gesunde Fitnessmix DIE morgendliche Zeitnische zwischen Familie und Beruf (D3382) 
LOCATION:Plat., VHS, Schillerhalle, Schulstr. 13/1, 70794 Filderstadt-Plattenhardt
END:VEVENT
BEGIN:VEVENT
DTSTAMP:20260422T060410
DTSTART;TZID=Europe/Berlin:20260610T073000
DTEND;TZID=Europe/Berlin:20260610T083000
UID:D3382-20260610T073000@VHSFILDERSTADT
SUMMARY:Body & Mind - der gesunde Fitnessmix DIE morgendliche Zeitnische zwischen Familie und Beruf (D3382) 
LOCATION:Plat., VHS, Schillerhalle, Schulstr. 13/1, 70794 Filderstadt-Plattenhardt
END:VEVENT
BEGIN:VEVENT
DTSTAMP:20260422T060410
DTSTART;TZID=Europe/Berlin:20260617T073000
DTEND;TZID=Europe/Berlin:20260617T083000
UID:D3382-20260617T073000@VHSFILDERSTADT
SUMMARY:Body & Mind - der gesunde Fitnessmix DIE morgendliche Zeitnische zwischen Familie und Beruf (D3382) 
LOCATION:Plat., VHS, Schillerhalle, Schulstr. 13/1, 70794 Filderstadt-Plattenhardt
END:VEVENT
BEGIN:VEVENT
DTSTAMP:20260422T060410
DTSTART;TZID=Europe/Berlin:20260624T073000
DTEND;TZID=Europe/Berlin:20260624T083000
UID:D3382-20260624T073000@VHSFILDERSTADT
SUMMARY:Body & Mind - der gesunde Fitnessmix DIE morgendliche Zeitnische zwischen Familie und Beruf (D3382) 
LOCATION:Plat., VHS, Schillerhalle, Schulstr. 13/1, 70794 Filderstadt-Plattenhardt
END:VEVENT
BEGIN:VEVENT
DTSTAMP:20260422T060410
DTSTART;TZID=Europe/Berlin:20260701T073000
DTEND;TZID=Europe/Berlin:20260701T083000
UID:D3382-20260701T073000@VHSFILDERSTADT
SUMMARY:Body & Mind - der gesunde Fitnessmix DIE morgendliche Zeitnische zwischen Familie und Beruf (D3382) 
LOCATION:Plat., VHS, Schillerhalle, Schulstr. 13/1, 70794 Filderstadt-Plattenhardt
END:VEVENT
BEGIN:VEVENT
DTSTAMP:20260422T060410
DTSTART;TZID=Europe/Berlin:20260708T073000
DTEND;TZID=Europe/Berlin:20260708T083000
UID:D3382-20260708T073000@VHSFILDERSTADT
SUMMARY:Body & Mind - der gesunde Fitnessmix DIE morgendliche Zeitnische zwischen Familie und Beruf (D3382) 
LOCATION:Plat., VHS, Schillerhalle, Schulstr. 13/1, 70794 Filderstadt-Plattenhardt
END:VEVENT
BEGIN:VEVENT
DTSTAMP:20260422T060410
DTSTART;TZID=Europe/Berlin:20260715T073000
DTEND;TZID=Europe/Berlin:20260715T083000
UID:D3382-20260715T073000@VHSFILDERSTADT
SUMMARY:Body & Mind - der gesunde Fitnessmix DIE morgendliche Zeitnische zwischen Familie und Beruf (D3382) 
LOCATION:Plat., VHS, Schillerhalle, Schulstr. 13/1, 70794 Filderstadt-Plattenhardt
END:VEVENT
BEGIN:VEVENT
DTSTAMP:20260422T060410
DTSTART;TZID=Europe/Berlin:20260722T073000
DTEND;TZID=Europe/Berlin:20260722T083000
UID:D3382-20260722T073000@VHSFILDERSTADT
SUMMARY:Body & Mind - der gesunde Fitnessmix DIE morgendliche Zeitnische zwischen Familie und Beruf (D3382) 
LOCATION:Plat., VHS, Schillerhalle, Schulstr. 13/1, 70794 Filderstadt-Plattenhardt
END:VEVENT
BEGIN:VEVENT
DTSTAMP:20260422T060410
DTSTART;TZID=Europe/Berlin:20260729T073000
DTEND;TZID=Europe/Berlin:20260729T083000
UID:D3382-20260729T073000@VHSFILDERSTADT
SUMMARY:Body & Mind - der gesunde Fitnessmix DIE morgendliche Zeitnische zwischen Familie und Beruf (D3382) 
LOCATION:Plat., VHS, Schillerhalle, Schulstr. 13/1, 70794 Filderstadt-Plattenhardt
END:VEVENT
END:VCALENDAR