BEGIN:VCALENDAR
VERSION:2.0
PRODID:https://www.kufer.de/kuferweb / DE
METHOD:PUBLISH
CALSCALE:GREGORIAN
X-WR-TIMEZONE:Europe/Berlin
BEGIN:VTIMEZONE
TZID:Europe/Berlin
X-LIC-LOCATION:Europe/Berlin
BEGIN:DAYLIGHT
TZOFFSETFROM:+0100
TZOFFSETTO:+0200
TZNAME:CEST
DTSTART:19700329T020000
RRULE:FREQ=YEARLY;INTERVAL=1;BYDAY=-1SU;BYMONTH=3
END:DAYLIGHT
BEGIN:STANDARD
TZOFFSETFROM:+0200
TZOFFSETTO:+0100
TZNAME:CET
DTSTART:19701025T030000
RRULE:FREQ=YEARLY;INTERVAL=1;BYDAY=-1SU;BYMONTH=10
END:STANDARD
END:VTIMEZONE
BEGIN:VEVENT
DTSTAMP:20260422T055411
DTSTART;TZID=Europe/Berlin:20260303T191500
DTEND;TZID=Europe/Berlin:20260303T201500
UID:D3370-20260303T191500@VHSFILDERSTADT
SUMMARY:Body-Shaping Figurgymnastik in allen Variationen (D3370) 
LOCATION:Bonl., Waldorfschule, Sporthalle Gutenhalde, Gutenhalde, 70794 Filderstadt-Bonlanden
END:VEVENT
BEGIN:VEVENT
DTSTAMP:20260422T055411
DTSTART;TZID=Europe/Berlin:20260310T191500
DTEND;TZID=Europe/Berlin:20260310T201500
UID:D3370-20260310T191500@VHSFILDERSTADT
SUMMARY:Body-Shaping Figurgymnastik in allen Variationen (D3370) 
LOCATION:Bonl., Waldorfschule, Sporthalle Gutenhalde, Gutenhalde, 70794 Filderstadt-Bonlanden
END:VEVENT
BEGIN:VEVENT
DTSTAMP:20260422T055411
DTSTART;TZID=Europe/Berlin:20260317T191500
DTEND;TZID=Europe/Berlin:20260317T201500
UID:D3370-20260317T191500@VHSFILDERSTADT
SUMMARY:Body-Shaping Figurgymnastik in allen Variationen (D3370) 
LOCATION:Bonl., Waldorfschule, Sporthalle Gutenhalde, Gutenhalde, 70794 Filderstadt-Bonlanden
END:VEVENT
BEGIN:VEVENT
DTSTAMP:20260422T055411
DTSTART;TZID=Europe/Berlin:20260414T191500
DTEND;TZID=Europe/Berlin:20260414T201500
UID:D3370-20260414T191500@VHSFILDERSTADT
SUMMARY:Body-Shaping Figurgymnastik in allen Variationen (D3370) 
LOCATION:Bonl., Waldorfschule, Sporthalle Gutenhalde, Gutenhalde, 70794 Filderstadt-Bonlanden
END:VEVENT
BEGIN:VEVENT
DTSTAMP:20260422T055411
DTSTART;TZID=Europe/Berlin:20260421T191500
DTEND;TZID=Europe/Berlin:20260421T201500
UID:D3370-20260421T191500@VHSFILDERSTADT
SUMMARY:Body-Shaping Figurgymnastik in allen Variationen (D3370) 
LOCATION:Bonl., Waldorfschule, Sporthalle Gutenhalde, Gutenhalde, 70794 Filderstadt-Bonlanden
END:VEVENT
BEGIN:VEVENT
DTSTAMP:20260422T055411
DTSTART;TZID=Europe/Berlin:20260428T191500
DTEND;TZID=Europe/Berlin:20260428T201500
UID:D3370-20260428T191500@VHSFILDERSTADT
SUMMARY:Body-Shaping Figurgymnastik in allen Variationen (D3370) 
LOCATION:Bonl., Waldorfschule, Sporthalle Gutenhalde, Gutenhalde, 70794 Filderstadt-Bonlanden
END:VEVENT
BEGIN:VEVENT
DTSTAMP:20260422T055411
DTSTART;TZID=Europe/Berlin:20260505T191500
DTEND;TZID=Europe/Berlin:20260505T201500
UID:D3370-20260505T191500@VHSFILDERSTADT
SUMMARY:Body-Shaping Figurgymnastik in allen Variationen (D3370) 
LOCATION:Bonl., Waldorfschule, Sporthalle Gutenhalde, Gutenhalde, 70794 Filderstadt-Bonlanden
END:VEVENT
BEGIN:VEVENT
DTSTAMP:20260422T055411
DTSTART;TZID=Europe/Berlin:20260512T191500
DTEND;TZID=Europe/Berlin:20260512T201500
UID:D3370-20260512T191500@VHSFILDERSTADT
SUMMARY:Body-Shaping Figurgymnastik in allen Variationen (D3370) 
LOCATION:Bonl., Waldorfschule, Sporthalle Gutenhalde, Gutenhalde, 70794 Filderstadt-Bonlanden
END:VEVENT
BEGIN:VEVENT
DTSTAMP:20260422T055411
DTSTART;TZID=Europe/Berlin:20260519T191500
DTEND;TZID=Europe/Berlin:20260519T201500
UID:D3370-20260519T191500@VHSFILDERSTADT
SUMMARY:Body-Shaping Figurgymnastik in allen Variationen (D3370) 
LOCATION:Bonl., Waldorfschule, Sporthalle Gutenhalde, Gutenhalde, 70794 Filderstadt-Bonlanden
END:VEVENT
BEGIN:VEVENT
DTSTAMP:20260422T055411
DTSTART;TZID=Europe/Berlin:20260616T191500
DTEND;TZID=Europe/Berlin:20260616T201500
UID:D3370-20260616T191500@VHSFILDERSTADT
SUMMARY:Body-Shaping Figurgymnastik in allen Variationen (D3370) 
LOCATION:Bonl., Waldorfschule, Sporthalle Gutenhalde, Gutenhalde, 70794 Filderstadt-Bonlanden
END:VEVENT
BEGIN:VEVENT
DTSTAMP:20260422T055411
DTSTART;TZID=Europe/Berlin:20260623T191500
DTEND;TZID=Europe/Berlin:20260623T201500
UID:D3370-20260623T191500@VHSFILDERSTADT
SUMMARY:Body-Shaping Figurgymnastik in allen Variationen (D3370) 
LOCATION:Bonl., Waldorfschule, Sporthalle Gutenhalde, Gutenhalde, 70794 Filderstadt-Bonlanden
END:VEVENT
BEGIN:VEVENT
DTSTAMP:20260422T055411
DTSTART;TZID=Europe/Berlin:20260630T191500
DTEND;TZID=Europe/Berlin:20260630T201500
UID:D3370-20260630T191500@VHSFILDERSTADT
SUMMARY:Body-Shaping Figurgymnastik in allen Variationen (D3370) 
LOCATION:Bonl., Waldorfschule, Sporthalle Gutenhalde, Gutenhalde, 70794 Filderstadt-Bonlanden
END:VEVENT
BEGIN:VEVENT
DTSTAMP:20260422T055411
DTSTART;TZID=Europe/Berlin:20260707T191500
DTEND;TZID=Europe/Berlin:20260707T201500
UID:D3370-20260707T191500@VHSFILDERSTADT
DESCRIPTION:Nachhol f. 24.2.
SUMMARY:Body-Shaping Figurgymnastik in allen Variationen (D3370) 
LOCATION:Bonl., Waldorfschule, Sporthalle Gutenhalde, Gutenhalde, 70794 Filderstadt-Bonlanden
END:VEVENT
END:VCALENDAR