BEGIN:VCALENDAR
VERSION:2.0
PRODID:https://www.kufer.de/kuferweb / DE
METHOD:PUBLISH
CALSCALE:GREGORIAN
X-WR-TIMEZONE:Europe/Berlin
BEGIN:VTIMEZONE
TZID:Europe/Berlin
X-LIC-LOCATION:Europe/Berlin
BEGIN:DAYLIGHT
TZOFFSETFROM:+0100
TZOFFSETTO:+0200
TZNAME:CEST
DTSTART:19700329T020000
RRULE:FREQ=YEARLY;INTERVAL=1;BYDAY=-1SU;BYMONTH=3
END:DAYLIGHT
BEGIN:STANDARD
TZOFFSETFROM:+0200
TZOFFSETTO:+0100
TZNAME:CET
DTSTART:19701025T030000
RRULE:FREQ=YEARLY;INTERVAL=1;BYDAY=-1SU;BYMONTH=10
END:STANDARD
END:VTIMEZONE
BEGIN:VEVENT
DTSTAMP:20260421T134005
DTSTART;TZID=Europe/Berlin:20260302T193000
DTEND;TZID=Europe/Berlin:20260302T203000
UID:D3367-20260302T193000@VHSFILDERSTADT
SUMMARY:Body-Shaping Figurgymnastik in allen Variationen (D3367) 
LOCATION:Plat., Weilerhau, Weilerhauhalle, Im Weilerhau 2, 70794 Filderstadt-Plattenhardt
END:VEVENT
BEGIN:VEVENT
DTSTAMP:20260421T134005
DTSTART;TZID=Europe/Berlin:20260309T193000
DTEND;TZID=Europe/Berlin:20260309T203000
UID:D3367-20260309T193000@VHSFILDERSTADT
SUMMARY:Body-Shaping Figurgymnastik in allen Variationen (D3367) 
LOCATION:Plat., Weilerhau, Weilerhauhalle, Im Weilerhau 2, 70794 Filderstadt-Plattenhardt
END:VEVENT
BEGIN:VEVENT
DTSTAMP:20260421T134005
DTSTART;TZID=Europe/Berlin:20260316T193000
DTEND;TZID=Europe/Berlin:20260316T203000
UID:D3367-20260316T193000@VHSFILDERSTADT
SUMMARY:Body-Shaping Figurgymnastik in allen Variationen (D3367) 
LOCATION:Plat., Weilerhau, Weilerhauhalle, Im Weilerhau 2, 70794 Filderstadt-Plattenhardt
END:VEVENT
BEGIN:VEVENT
DTSTAMP:20260421T134005
DTSTART;TZID=Europe/Berlin:20260413T193000
DTEND;TZID=Europe/Berlin:20260413T203000
UID:D3367-20260413T193000@VHSFILDERSTADT
SUMMARY:Body-Shaping Figurgymnastik in allen Variationen (D3367) 
LOCATION:Plat., Weilerhau, Weilerhauhalle, Im Weilerhau 2, 70794 Filderstadt-Plattenhardt
END:VEVENT
BEGIN:VEVENT
DTSTAMP:20260421T134005
DTSTART;TZID=Europe/Berlin:20260420T193000
DTEND;TZID=Europe/Berlin:20260420T203000
UID:D3367-20260420T193000@VHSFILDERSTADT
SUMMARY:Body-Shaping Figurgymnastik in allen Variationen (D3367) 
LOCATION:Plat., Weilerhau, Weilerhauhalle, Im Weilerhau 2, 70794 Filderstadt-Plattenhardt
END:VEVENT
BEGIN:VEVENT
DTSTAMP:20260421T134005
DTSTART;TZID=Europe/Berlin:20260427T193000
DTEND;TZID=Europe/Berlin:20260427T203000
UID:D3367-20260427T193000@VHSFILDERSTADT
SUMMARY:Body-Shaping Figurgymnastik in allen Variationen (D3367) 
LOCATION:Plat., Weilerhau, Weilerhauhalle, Im Weilerhau 2, 70794 Filderstadt-Plattenhardt
END:VEVENT
BEGIN:VEVENT
DTSTAMP:20260421T134005
DTSTART;TZID=Europe/Berlin:20260504T193000
DTEND;TZID=Europe/Berlin:20260504T203000
UID:D3367-20260504T193000@VHSFILDERSTADT
SUMMARY:Body-Shaping Figurgymnastik in allen Variationen (D3367) 
LOCATION:Plat., Weilerhau, Weilerhauhalle, Im Weilerhau 2, 70794 Filderstadt-Plattenhardt
END:VEVENT
BEGIN:VEVENT
DTSTAMP:20260421T134005
DTSTART;TZID=Europe/Berlin:20260511T193000
DTEND;TZID=Europe/Berlin:20260511T203000
UID:D3367-20260511T193000@VHSFILDERSTADT
SUMMARY:Body-Shaping Figurgymnastik in allen Variationen (D3367) 
LOCATION:Plat., Weilerhau, Weilerhauhalle, Im Weilerhau 2, 70794 Filderstadt-Plattenhardt
END:VEVENT
BEGIN:VEVENT
DTSTAMP:20260421T134005
DTSTART;TZID=Europe/Berlin:20260518T193000
DTEND;TZID=Europe/Berlin:20260518T203000
UID:D3367-20260518T193000@VHSFILDERSTADT
SUMMARY:Body-Shaping Figurgymnastik in allen Variationen (D3367) 
LOCATION:Plat., Weilerhau, Weilerhauhalle, Im Weilerhau 2, 70794 Filderstadt-Plattenhardt
END:VEVENT
BEGIN:VEVENT
DTSTAMP:20260421T134005
DTSTART;TZID=Europe/Berlin:20260608T193000
DTEND;TZID=Europe/Berlin:20260608T203000
UID:D3367-20260608T193000@VHSFILDERSTADT
SUMMARY:Body-Shaping Figurgymnastik in allen Variationen (D3367) 
LOCATION:Plat., Weilerhau, Weilerhauhalle, Im Weilerhau 2, 70794 Filderstadt-Plattenhardt
END:VEVENT
BEGIN:VEVENT
DTSTAMP:20260421T134005
DTSTART;TZID=Europe/Berlin:20260615T193000
DTEND;TZID=Europe/Berlin:20260615T203000
UID:D3367-20260615T193000@VHSFILDERSTADT
SUMMARY:Body-Shaping Figurgymnastik in allen Variationen (D3367) 
LOCATION:Plat., Weilerhau, Weilerhauhalle, Im Weilerhau 2, 70794 Filderstadt-Plattenhardt
END:VEVENT
BEGIN:VEVENT
DTSTAMP:20260421T134005
DTSTART;TZID=Europe/Berlin:20260622T193000
DTEND;TZID=Europe/Berlin:20260622T203000
UID:D3367-20260622T193000@VHSFILDERSTADT
SUMMARY:Body-Shaping Figurgymnastik in allen Variationen (D3367) 
LOCATION:Plat., Weilerhau, Weilerhauhalle, Im Weilerhau 2, 70794 Filderstadt-Plattenhardt
END:VEVENT
BEGIN:VEVENT
DTSTAMP:20260421T134005
DTSTART;TZID=Europe/Berlin:20260629T193000
DTEND;TZID=Europe/Berlin:20260629T203000
UID:D3367-20260629T193000@VHSFILDERSTADT
SUMMARY:Body-Shaping Figurgymnastik in allen Variationen (D3367) 
LOCATION:Plat., Weilerhau, Weilerhauhalle, Im Weilerhau 2, 70794 Filderstadt-Plattenhardt
END:VEVENT
BEGIN:VEVENT
DTSTAMP:20260421T134005
DTSTART;TZID=Europe/Berlin:20260706T193000
DTEND;TZID=Europe/Berlin:20260706T203000
UID:D3367-20260706T193000@VHSFILDERSTADT
DESCRIPTION:Nachhol f. 23.2. 23.02.26 (*SK): 
SUMMARY:Body-Shaping Figurgymnastik in allen Variationen (D3367) 
LOCATION:Plat., Weilerhau, Weilerhauhalle, Im Weilerhau 2, 70794 Filderstadt-Plattenhardt
END:VEVENT
END:VCALENDAR