BEGIN:VCALENDAR
VERSION:2.0
PRODID:https://www.kufer.de/kuferweb / DE
METHOD:PUBLISH
CALSCALE:GREGORIAN
X-WR-TIMEZONE:Europe/Berlin
BEGIN:VTIMEZONE
TZID:Europe/Berlin
X-LIC-LOCATION:Europe/Berlin
BEGIN:DAYLIGHT
TZOFFSETFROM:+0100
TZOFFSETTO:+0200
TZNAME:CEST
DTSTART:19700329T020000
RRULE:FREQ=YEARLY;INTERVAL=1;BYDAY=-1SU;BYMONTH=3
END:DAYLIGHT
BEGIN:STANDARD
TZOFFSETFROM:+0200
TZOFFSETTO:+0100
TZNAME:CET
DTSTART:19701025T030000
RRULE:FREQ=YEARLY;INTERVAL=1;BYDAY=-1SU;BYMONTH=10
END:STANDARD
END:VTIMEZONE
BEGIN:VEVENT
DTSTAMP:20260422T055401
DTSTART;TZID=Europe/Berlin:20260226T202000
DTEND;TZID=Europe/Berlin:20260226T212000
UID:D3355-20260226T202000@VHSFILDERSTADT
SUMMARY:Pilates für Menschen ohne oder mit Vorkenntnissen (D3355) 
LOCATION:Bern., Fleinsbach-Realschule, Pavillon, Poltawastr. 1, 70794 Filderstadt-Bernhausen
END:VEVENT
BEGIN:VEVENT
DTSTAMP:20260422T055401
DTSTART;TZID=Europe/Berlin:20260305T202000
DTEND;TZID=Europe/Berlin:20260305T212000
UID:D3355-20260305T202000@VHSFILDERSTADT
SUMMARY:Pilates für Menschen ohne oder mit Vorkenntnissen (D3355) 
LOCATION:Bern., Fleinsbach-Realschule, Pavillon, Poltawastr. 1, 70794 Filderstadt-Bernhausen
END:VEVENT
BEGIN:VEVENT
DTSTAMP:20260422T055401
DTSTART;TZID=Europe/Berlin:20260312T202000
DTEND;TZID=Europe/Berlin:20260312T212000
UID:D3355-20260312T202000@VHSFILDERSTADT
SUMMARY:Pilates für Menschen ohne oder mit Vorkenntnissen (D3355) 
LOCATION:Bern., Fleinsbach-Realschule, Pavillon, Poltawastr. 1, 70794 Filderstadt-Bernhausen
END:VEVENT
BEGIN:VEVENT
DTSTAMP:20260422T055401
DTSTART;TZID=Europe/Berlin:20260319T202000
DTEND;TZID=Europe/Berlin:20260319T212000
UID:D3355-20260319T202000@VHSFILDERSTADT
SUMMARY:Pilates für Menschen ohne oder mit Vorkenntnissen (D3355) 
LOCATION:Bern., Fleinsbach-Realschule, Pavillon, Poltawastr. 1, 70794 Filderstadt-Bernhausen
END:VEVENT
BEGIN:VEVENT
DTSTAMP:20260422T055401
DTSTART;TZID=Europe/Berlin:20260326T202000
DTEND;TZID=Europe/Berlin:20260326T212000
UID:D3355-20260326T202000@VHSFILDERSTADT
SUMMARY:Pilates für Menschen ohne oder mit Vorkenntnissen (D3355) 
LOCATION:Bern., Fleinsbach-Realschule, Pavillon, Poltawastr. 1, 70794 Filderstadt-Bernhausen
END:VEVENT
BEGIN:VEVENT
DTSTAMP:20260422T055401
DTSTART;TZID=Europe/Berlin:20260416T202000
DTEND;TZID=Europe/Berlin:20260416T212000
UID:D3355-20260416T202000@VHSFILDERSTADT
SUMMARY:Pilates für Menschen ohne oder mit Vorkenntnissen (D3355) 
LOCATION:Bern., Fleinsbach-Realschule, Pavillon, Poltawastr. 1, 70794 Filderstadt-Bernhausen
END:VEVENT
BEGIN:VEVENT
DTSTAMP:20260422T055401
DTSTART;TZID=Europe/Berlin:20260423T202000
DTEND;TZID=Europe/Berlin:20260423T212000
UID:D3355-20260423T202000@VHSFILDERSTADT
SUMMARY:Pilates für Menschen ohne oder mit Vorkenntnissen (D3355) 
LOCATION:Bern., Fleinsbach-Realschule, Pavillon, Poltawastr. 1, 70794 Filderstadt-Bernhausen
END:VEVENT
BEGIN:VEVENT
DTSTAMP:20260422T055401
DTSTART;TZID=Europe/Berlin:20260430T202000
DTEND;TZID=Europe/Berlin:20260430T212000
UID:D3355-20260430T202000@VHSFILDERSTADT
SUMMARY:Pilates für Menschen ohne oder mit Vorkenntnissen (D3355) 
LOCATION:Bern., Fleinsbach-Realschule, Pavillon, Poltawastr. 1, 70794 Filderstadt-Bernhausen
END:VEVENT
BEGIN:VEVENT
DTSTAMP:20260422T055401
DTSTART;TZID=Europe/Berlin:20260507T202000
DTEND;TZID=Europe/Berlin:20260507T212000
UID:D3355-20260507T202000@VHSFILDERSTADT
SUMMARY:Pilates für Menschen ohne oder mit Vorkenntnissen (D3355) 
LOCATION:Bern., Fleinsbach-Realschule, Pavillon, Poltawastr. 1, 70794 Filderstadt-Bernhausen
END:VEVENT
BEGIN:VEVENT
DTSTAMP:20260422T055401
DTSTART;TZID=Europe/Berlin:20260521T202000
DTEND;TZID=Europe/Berlin:20260521T212000
UID:D3355-20260521T202000@VHSFILDERSTADT
SUMMARY:Pilates für Menschen ohne oder mit Vorkenntnissen (D3355) 
LOCATION:Bern., Fleinsbach-Realschule, Pavillon, Poltawastr. 1, 70794 Filderstadt-Bernhausen
END:VEVENT
BEGIN:VEVENT
DTSTAMP:20260422T055401
DTSTART;TZID=Europe/Berlin:20260611T202000
DTEND;TZID=Europe/Berlin:20260611T212000
UID:D3355-20260611T202000@VHSFILDERSTADT
SUMMARY:Pilates für Menschen ohne oder mit Vorkenntnissen (D3355) 
LOCATION:Bern., Fleinsbach-Realschule, Pavillon, Poltawastr. 1, 70794 Filderstadt-Bernhausen
END:VEVENT
BEGIN:VEVENT
DTSTAMP:20260422T055401
DTSTART;TZID=Europe/Berlin:20260618T202000
DTEND;TZID=Europe/Berlin:20260618T212000
UID:D3355-20260618T202000@VHSFILDERSTADT
SUMMARY:Pilates für Menschen ohne oder mit Vorkenntnissen (D3355) 
LOCATION:Bern., Fleinsbach-Realschule, Pavillon, Poltawastr. 1, 70794 Filderstadt-Bernhausen
END:VEVENT
BEGIN:VEVENT
DTSTAMP:20260422T055401
DTSTART;TZID=Europe/Berlin:20260625T202000
DTEND;TZID=Europe/Berlin:20260625T212000
UID:D3355-20260625T202000@VHSFILDERSTADT
SUMMARY:Pilates für Menschen ohne oder mit Vorkenntnissen (D3355) 
LOCATION:Bern., Fleinsbach-Realschule, Pavillon, Poltawastr. 1, 70794 Filderstadt-Bernhausen
END:VEVENT
BEGIN:VEVENT
DTSTAMP:20260422T055401
DTSTART;TZID=Europe/Berlin:20260702T202000
DTEND;TZID=Europe/Berlin:20260702T212000
UID:D3355-20260702T202000@VHSFILDERSTADT
SUMMARY:Pilates für Menschen ohne oder mit Vorkenntnissen (D3355) 
LOCATION:Bern., Fleinsbach-Realschule, Pavillon, Poltawastr. 1, 70794 Filderstadt-Bernhausen
END:VEVENT
BEGIN:VEVENT
DTSTAMP:20260422T055401
DTSTART;TZID=Europe/Berlin:20260709T202000
DTEND;TZID=Europe/Berlin:20260709T212000
UID:D3355-20260709T202000@VHSFILDERSTADT
SUMMARY:Pilates für Menschen ohne oder mit Vorkenntnissen (D3355) 
LOCATION:Bern., Fleinsbach-Realschule, Pavillon, Poltawastr. 1, 70794 Filderstadt-Bernhausen
END:VEVENT
BEGIN:VEVENT
DTSTAMP:20260422T055401
DTSTART;TZID=Europe/Berlin:20260716T202000
DTEND;TZID=Europe/Berlin:20260716T212000
UID:D3355-20260716T202000@VHSFILDERSTADT
SUMMARY:Pilates für Menschen ohne oder mit Vorkenntnissen (D3355) 
LOCATION:Bern., Fleinsbach-Realschule, Pavillon, Poltawastr. 1, 70794 Filderstadt-Bernhausen
END:VEVENT
BEGIN:VEVENT
DTSTAMP:20260422T055401
DTSTART;TZID=Europe/Berlin:20260723T202000
DTEND;TZID=Europe/Berlin:20260723T212000
UID:D3355-20260723T202000@VHSFILDERSTADT
SUMMARY:Pilates für Menschen ohne oder mit Vorkenntnissen (D3355) 
LOCATION:Bern., Fleinsbach-Realschule, Pavillon, Poltawastr. 1, 70794 Filderstadt-Bernhausen
END:VEVENT
END:VCALENDAR