BEGIN:VCALENDAR
VERSION:2.0
PRODID:https://www.kufer.de/kuferweb / DE
METHOD:PUBLISH
CALSCALE:GREGORIAN
X-WR-TIMEZONE:Europe/Berlin
BEGIN:VTIMEZONE
TZID:Europe/Berlin
X-LIC-LOCATION:Europe/Berlin
BEGIN:DAYLIGHT
TZOFFSETFROM:+0100
TZOFFSETTO:+0200
TZNAME:CEST
DTSTART:19700329T020000
RRULE:FREQ=YEARLY;INTERVAL=1;BYDAY=-1SU;BYMONTH=3
END:DAYLIGHT
BEGIN:STANDARD
TZOFFSETFROM:+0200
TZOFFSETTO:+0100
TZNAME:CET
DTSTART:19701025T030000
RRULE:FREQ=YEARLY;INTERVAL=1;BYDAY=-1SU;BYMONTH=10
END:STANDARD
END:VTIMEZONE
BEGIN:VEVENT
DTSTAMP:20260421T121833
DTSTART;TZID=Europe/Berlin:20260227T101500
DTEND;TZID=Europe/Berlin:20260227T113000
UID:D3240-20260227T101500@VHSFILDERSTADT
SUMMARY:Vinyasa Basic & mehr (D3240) 
LOCATION:Bonl., Alte Mühle, Entspannungssaal, Humboldtstr. 5, 70794 Filderstadt-Bonlanden
END:VEVENT
BEGIN:VEVENT
DTSTAMP:20260421T121833
DTSTART;TZID=Europe/Berlin:20260306T101500
DTEND;TZID=Europe/Berlin:20260306T113000
UID:D3240-20260306T101500@VHSFILDERSTADT
SUMMARY:Vinyasa Basic & mehr (D3240) 
LOCATION:Bonl., Alte Mühle, Entspannungssaal, Humboldtstr. 5, 70794 Filderstadt-Bonlanden
END:VEVENT
BEGIN:VEVENT
DTSTAMP:20260421T121833
DTSTART;TZID=Europe/Berlin:20260313T101500
DTEND;TZID=Europe/Berlin:20260313T113000
UID:D3240-20260313T101500@VHSFILDERSTADT
SUMMARY:Vinyasa Basic & mehr (D3240) 
LOCATION:Bonl., Alte Mühle, Entspannungssaal, Humboldtstr. 5, 70794 Filderstadt-Bonlanden
END:VEVENT
BEGIN:VEVENT
DTSTAMP:20260421T121833
DTSTART;TZID=Europe/Berlin:20260320T101500
DTEND;TZID=Europe/Berlin:20260320T113000
UID:D3240-20260320T101500@VHSFILDERSTADT
SUMMARY:Vinyasa Basic & mehr (D3240) 
LOCATION:Bonl., Alte Mühle, Entspannungssaal, Humboldtstr. 5, 70794 Filderstadt-Bonlanden
END:VEVENT
BEGIN:VEVENT
DTSTAMP:20260421T121833
DTSTART;TZID=Europe/Berlin:20260417T101500
DTEND;TZID=Europe/Berlin:20260417T113000
UID:D3240-20260417T101500@VHSFILDERSTADT
SUMMARY:Vinyasa Basic & mehr (D3240) 
LOCATION:Bonl., Alte Mühle, Entspannungssaal, Humboldtstr. 5, 70794 Filderstadt-Bonlanden
END:VEVENT
BEGIN:VEVENT
DTSTAMP:20260421T121833
DTSTART;TZID=Europe/Berlin:20260424T101500
DTEND;TZID=Europe/Berlin:20260424T113000
UID:D3240-20260424T101500@VHSFILDERSTADT
SUMMARY:Vinyasa Basic & mehr (D3240) 
LOCATION:Bonl., Alte Mühle, Entspannungssaal, Humboldtstr. 5, 70794 Filderstadt-Bonlanden
END:VEVENT
BEGIN:VEVENT
DTSTAMP:20260421T121833
DTSTART;TZID=Europe/Berlin:20260508T101500
DTEND;TZID=Europe/Berlin:20260508T113000
UID:D3240-20260508T101500@VHSFILDERSTADT
SUMMARY:Vinyasa Basic & mehr (D3240) 
LOCATION:Bonl., Alte Mühle, Entspannungssaal, Humboldtstr. 5, 70794 Filderstadt-Bonlanden
END:VEVENT
BEGIN:VEVENT
DTSTAMP:20260421T121833
DTSTART;TZID=Europe/Berlin:20260612T101500
DTEND;TZID=Europe/Berlin:20260612T113000
UID:D3240-20260612T101500@VHSFILDERSTADT
SUMMARY:Vinyasa Basic & mehr (D3240) 
LOCATION:Bonl., Alte Mühle, Entspannungssaal, Humboldtstr. 5, 70794 Filderstadt-Bonlanden
END:VEVENT
BEGIN:VEVENT
DTSTAMP:20260421T121833
DTSTART;TZID=Europe/Berlin:20260619T101500
DTEND;TZID=Europe/Berlin:20260619T113000
UID:D3240-20260619T101500@VHSFILDERSTADT
SUMMARY:Vinyasa Basic & mehr (D3240) 
LOCATION:Bonl., Alte Mühle, Entspannungssaal, Humboldtstr. 5, 70794 Filderstadt-Bonlanden
END:VEVENT
BEGIN:VEVENT
DTSTAMP:20260421T121833
DTSTART;TZID=Europe/Berlin:20260626T101500
DTEND;TZID=Europe/Berlin:20260626T113000
UID:D3240-20260626T101500@VHSFILDERSTADT
SUMMARY:Vinyasa Basic & mehr (D3240) 
LOCATION:Bonl., Alte Mühle, Entspannungssaal, Humboldtstr. 5, 70794 Filderstadt-Bonlanden
END:VEVENT
BEGIN:VEVENT
DTSTAMP:20260421T121833
DTSTART;TZID=Europe/Berlin:20260703T101500
DTEND;TZID=Europe/Berlin:20260703T113000
UID:D3240-20260703T101500@VHSFILDERSTADT
SUMMARY:Vinyasa Basic & mehr (D3240) 
LOCATION:Bonl., Alte Mühle, Entspannungssaal, Humboldtstr. 5, 70794 Filderstadt-Bonlanden
END:VEVENT
BEGIN:VEVENT
DTSTAMP:20260421T121833
DTSTART;TZID=Europe/Berlin:20260710T101500
DTEND;TZID=Europe/Berlin:20260710T113000
UID:D3240-20260710T101500@VHSFILDERSTADT
SUMMARY:Vinyasa Basic & mehr (D3240) 
LOCATION:Bonl., Alte Mühle, Entspannungssaal, Humboldtstr. 5, 70794 Filderstadt-Bonlanden
END:VEVENT
BEGIN:VEVENT
DTSTAMP:20260421T121833
DTSTART;TZID=Europe/Berlin:20260717T101500
DTEND;TZID=Europe/Berlin:20260717T113000
UID:D3240-20260717T101500@VHSFILDERSTADT
SUMMARY:Vinyasa Basic & mehr (D3240) 
LOCATION:Bonl., Alte Mühle, Entspannungssaal, Humboldtstr. 5, 70794 Filderstadt-Bonlanden
END:VEVENT
BEGIN:VEVENT
DTSTAMP:20260421T121833
DTSTART;TZID=Europe/Berlin:20260724T101500
DTEND;TZID=Europe/Berlin:20260724T113000
UID:D3240-20260724T101500@VHSFILDERSTADT
SUMMARY:Vinyasa Basic & mehr (D3240) 
LOCATION:Bonl., Alte Mühle, Entspannungssaal, Humboldtstr. 5, 70794 Filderstadt-Bonlanden
END:VEVENT
END:VCALENDAR