BEGIN:VCALENDAR
VERSION:2.0
PRODID:https://www.kufer.de/kuferweb / DE
METHOD:PUBLISH
CALSCALE:GREGORIAN
X-WR-TIMEZONE:Europe/Berlin
BEGIN:VTIMEZONE
TZID:Europe/Berlin
X-LIC-LOCATION:Europe/Berlin
BEGIN:DAYLIGHT
TZOFFSETFROM:+0100
TZOFFSETTO:+0200
TZNAME:CEST
DTSTART:19700329T020000
RRULE:FREQ=YEARLY;INTERVAL=1;BYDAY=-1SU;BYMONTH=3
END:DAYLIGHT
BEGIN:STANDARD
TZOFFSETFROM:+0200
TZOFFSETTO:+0100
TZNAME:CET
DTSTART:19701025T030000
RRULE:FREQ=YEARLY;INTERVAL=1;BYDAY=-1SU;BYMONTH=10
END:STANDARD
END:VTIMEZONE
BEGIN:VEVENT
DTSTAMP:20260420T105142
DTSTART;TZID=Europe/Berlin:20260226T183000
DTEND;TZID=Europe/Berlin:20260226T200000
UID:D3238-20260226T183000@VHSFILDERSTADT
SUMMARY:Yin Yoga (D3238) 
LOCATION:Bonl., Alte Mühle, Entspannungssaal, Humboldtstr. 5, 70794 Filderstadt-Bonlanden
END:VEVENT
BEGIN:VEVENT
DTSTAMP:20260420T105142
DTSTART;TZID=Europe/Berlin:20260305T183000
DTEND;TZID=Europe/Berlin:20260305T200000
UID:D3238-20260305T183000@VHSFILDERSTADT
SUMMARY:Yin Yoga (D3238) 
LOCATION:Bonl., Alte Mühle, Entspannungssaal, Humboldtstr. 5, 70794 Filderstadt-Bonlanden
END:VEVENT
BEGIN:VEVENT
DTSTAMP:20260420T105142
DTSTART;TZID=Europe/Berlin:20260312T183000
DTEND;TZID=Europe/Berlin:20260312T200000
UID:D3238-20260312T183000@VHSFILDERSTADT
SUMMARY:Yin Yoga (D3238) 
LOCATION:Bonl., Alte Mühle, Entspannungssaal, Humboldtstr. 5, 70794 Filderstadt-Bonlanden
END:VEVENT
BEGIN:VEVENT
DTSTAMP:20260420T105142
DTSTART;TZID=Europe/Berlin:20260319T183000
DTEND;TZID=Europe/Berlin:20260319T200000
UID:D3238-20260319T183000@VHSFILDERSTADT
SUMMARY:Yin Yoga (D3238) 
LOCATION:Bonl., Alte Mühle, Entspannungssaal, Humboldtstr. 5, 70794 Filderstadt-Bonlanden
END:VEVENT
BEGIN:VEVENT
DTSTAMP:20260420T105142
DTSTART;TZID=Europe/Berlin:20260326T183000
DTEND;TZID=Europe/Berlin:20260326T200000
UID:D3238-20260326T183000@VHSFILDERSTADT
SUMMARY:Yin Yoga (D3238) 
LOCATION:Bonl., Alte Mühle, Entspannungssaal, Humboldtstr. 5, 70794 Filderstadt-Bonlanden
END:VEVENT
BEGIN:VEVENT
DTSTAMP:20260420T105142
DTSTART;TZID=Europe/Berlin:20260416T183000
DTEND;TZID=Europe/Berlin:20260416T200000
UID:D3238-20260416T183000@VHSFILDERSTADT
SUMMARY:Yin Yoga (D3238) 
LOCATION:Bonl., Alte Mühle, Entspannungssaal, Humboldtstr. 5, 70794 Filderstadt-Bonlanden
END:VEVENT
BEGIN:VEVENT
DTSTAMP:20260420T105142
DTSTART;TZID=Europe/Berlin:20260423T183000
DTEND;TZID=Europe/Berlin:20260423T200000
UID:D3238-20260423T183000@VHSFILDERSTADT
SUMMARY:Yin Yoga (D3238) 
LOCATION:Bonl., Alte Mühle, Entspannungssaal, Humboldtstr. 5, 70794 Filderstadt-Bonlanden
END:VEVENT
BEGIN:VEVENT
DTSTAMP:20260420T105142
DTSTART;TZID=Europe/Berlin:20260521T183000
DTEND;TZID=Europe/Berlin:20260521T200000
UID:D3238-20260521T183000@VHSFILDERSTADT
SUMMARY:Yin Yoga (D3238) 
LOCATION:Bonl., Alte Mühle, Entspannungssaal, Humboldtstr. 5, 70794 Filderstadt-Bonlanden
END:VEVENT
BEGIN:VEVENT
DTSTAMP:20260420T105142
DTSTART;TZID=Europe/Berlin:20260528T183000
DTEND;TZID=Europe/Berlin:20260528T200000
UID:D3238-20260528T183000@VHSFILDERSTADT
SUMMARY:Yin Yoga (D3238) 
LOCATION:Bonl., Alte Mühle, Entspannungssaal, Humboldtstr. 5, 70794 Filderstadt-Bonlanden
END:VEVENT
BEGIN:VEVENT
DTSTAMP:20260420T105142
DTSTART;TZID=Europe/Berlin:20260611T183000
DTEND;TZID=Europe/Berlin:20260611T200000
UID:D3238-20260611T183000@VHSFILDERSTADT
SUMMARY:Yin Yoga (D3238) 
LOCATION:Bonl., Alte Mühle, Entspannungssaal, Humboldtstr. 5, 70794 Filderstadt-Bonlanden
END:VEVENT
BEGIN:VEVENT
DTSTAMP:20260420T105142
DTSTART;TZID=Europe/Berlin:20260618T183000
DTEND;TZID=Europe/Berlin:20260618T200000
UID:D3238-20260618T183000@VHSFILDERSTADT
SUMMARY:Yin Yoga (D3238) 
LOCATION:Bonl., Alte Mühle, Entspannungssaal, Humboldtstr. 5, 70794 Filderstadt-Bonlanden
END:VEVENT
BEGIN:VEVENT
DTSTAMP:20260420T105142
DTSTART;TZID=Europe/Berlin:20260625T183000
DTEND;TZID=Europe/Berlin:20260625T200000
UID:D3238-20260625T183000@VHSFILDERSTADT
SUMMARY:Yin Yoga (D3238) 
LOCATION:Bonl., Alte Mühle, Entspannungssaal, Humboldtstr. 5, 70794 Filderstadt-Bonlanden
END:VEVENT
BEGIN:VEVENT
DTSTAMP:20260420T105142
DTSTART;TZID=Europe/Berlin:20260702T183000
DTEND;TZID=Europe/Berlin:20260702T200000
UID:D3238-20260702T183000@VHSFILDERSTADT
SUMMARY:Yin Yoga (D3238) 
LOCATION:Bonl., Alte Mühle, Entspannungssaal, Humboldtstr. 5, 70794 Filderstadt-Bonlanden
END:VEVENT
BEGIN:VEVENT
DTSTAMP:20260420T105142
DTSTART;TZID=Europe/Berlin:20260709T183000
DTEND;TZID=Europe/Berlin:20260709T200000
UID:D3238-20260709T183000@VHSFILDERSTADT
SUMMARY:Yin Yoga (D3238) 
LOCATION:Bonl., Alte Mühle, Entspannungssaal, Humboldtstr. 5, 70794 Filderstadt-Bonlanden
END:VEVENT
BEGIN:VEVENT
DTSTAMP:20260420T105142
DTSTART;TZID=Europe/Berlin:20260716T183000
DTEND;TZID=Europe/Berlin:20260716T200000
UID:D3238-20260716T183000@VHSFILDERSTADT
SUMMARY:Yin Yoga (D3238) 
LOCATION:Bonl., Alte Mühle, Entspannungssaal, Humboldtstr. 5, 70794 Filderstadt-Bonlanden
END:VEVENT
BEGIN:VEVENT
DTSTAMP:20260420T105142
DTSTART;TZID=Europe/Berlin:20260723T183000
DTEND;TZID=Europe/Berlin:20260723T200000
UID:D3238-20260723T183000@VHSFILDERSTADT
SUMMARY:Yin Yoga (D3238) 
LOCATION:Bonl., Alte Mühle, Entspannungssaal, Humboldtstr. 5, 70794 Filderstadt-Bonlanden
END:VEVENT
END:VCALENDAR